BEGIN:VCALENDAR
VERSION:2.0
PRODID:-//wp-events-plugin.com//6.6.3//EN
BEGIN:VEVENT
UID:229@dmd.cat
DTSTART;TZID=Europe/Madrid:20251029T170000
DTEND;TZID=Europe/Madrid:20251029T180000
DTSTAMP:20250929T063930Z
URL:https://dmd.cat/events/els-drets-al-final-de-vida-amb-curts-i-testimon
 is-barcelona/
SUMMARY:Els drets al final de vida amb curts i testimonis. Barcelona
DESCRIPTION:Xerrada a càrrec de Nani Hidalgo\n\nCasal de Gent Gran Can Fà
 bregas\nPlaça de Pere Figuera i Serra\, 1\n\nBarcelona
CATEGORIES:Barcelona
END:VEVENT
BEGIN:VTIMEZONE
TZID:Europe/Madrid
X-LIC-LOCATION:Europe/Madrid
BEGIN:STANDARD
DTSTART:20251026T020000
TZOFFSETFROM:+0200
TZOFFSETTO:+0100
TZNAME:CET
END:STANDARD
END:VTIMEZONE
END:VCALENDAR