BEGIN:VCALENDAR
VERSION:2.0
PRODID:-//wp-events-plugin.com//6.6.3//EN
BEGIN:VEVENT
UID:192@dmd.cat
DTSTART;TZID=Europe/Madrid:20250507T180000
DTEND;TZID=Europe/Madrid:20250507T190000
DTSTAMP:20250429T071203Z
URL:https://dmd.cat/events/drets-sobre-la-salut-i-dva-castellfollit-de-la-
 roca/
SUMMARY:Castellfollit de la Roca. Drets sobre la Salut i DVA
DESCRIPTION:Xerrada a càrrec de Núria Coderch i Loreto Noguer\n\nCentre C
 ívic 1 d'Octubre\nMigdia\, 1\n\nCastellfollit de la Roca
CATEGORIES:Girona
END:VEVENT
BEGIN:VTIMEZONE
TZID:Europe/Madrid
X-LIC-LOCATION:Europe/Madrid
BEGIN:DAYLIGHT
DTSTART:20250330T030000
TZOFFSETFROM:+0100
TZOFFSETTO:+0200
TZNAME:CEST
END:DAYLIGHT
END:VTIMEZONE
END:VCALENDAR