BEGIN:VCALENDAR
VERSION:2.0
PRODID:-//wp-events-plugin.com//6.6.3//EN
BEGIN:VEVENT
UID:174@dmd.cat
DTSTART;TZID=Europe/Madrid:20250507T160000
DTEND;TZID=Europe/Madrid:20250507T170000
DTSTAMP:20250429T071611Z
URL:https://dmd.cat/events/drets-final-de-vida-i-dva-santpedor/
SUMMARY:Santpedor. Drets Final de Vida i DVA.
DESCRIPTION:Xerrada a càrrec de Rosa Cobacho i Anna Vidal\n\nBiblioteca- S
 essió compartida amb CAP\nPlaça de la Pau\, 2\n\nSantpedor
CATEGORIES:Barcelona
END:VEVENT
BEGIN:VTIMEZONE
TZID:Europe/Madrid
X-LIC-LOCATION:Europe/Madrid
BEGIN:DAYLIGHT
DTSTART:20250330T030000
TZOFFSETFROM:+0100
TZOFFSETTO:+0200
TZNAME:CEST
END:DAYLIGHT
END:VTIMEZONE
END:VCALENDAR