BEGIN:VCALENDAR
VERSION:2.0
PRODID:-//wp-events-plugin.com//6.6.3//EN
BEGIN:VEVENT
UID:180@dmd.cat
DTSTART;TZID=Europe/Madrid:20250513T110000
DTEND;TZID=Europe/Madrid:20250513T120000
DTSTAMP:20250430T071038Z
URL:https://dmd.cat/events/drets-dva-i-eutanasia-sant-vicenc-dels-horts/
SUMMARY:Isona. Drets al final de la vida: DVA
DESCRIPTION:Xerrada a càrrec de Lola Toledano\n\nConsell Comarcal Pallars 
 Jussà-Gent Gran\n\n\nAjuntament. C/Bisbe Badía\, 1\n\n\nIsona
CATEGORIES:Lleida
END:VEVENT
BEGIN:VTIMEZONE
TZID:Europe/Madrid
X-LIC-LOCATION:Europe/Madrid
BEGIN:DAYLIGHT
DTSTART:20250330T030000
TZOFFSETFROM:+0100
TZOFFSETTO:+0200
TZNAME:CEST
END:DAYLIGHT
END:VTIMEZONE
END:VCALENDAR