BEGIN:VCALENDAR
VERSION:2.0
PRODID:-//wp-events-plugin.com//6.6.3//EN
BEGIN:VEVENT
UID:181@dmd.cat
DTSTART;TZID=Europe/Madrid:20250515T183000
DTEND;TZID=Europe/Madrid:20250515T193000
DTSTAMP:20250429T071425Z
URL:https://dmd.cat/events/drets-de-final-de-vida-i-dva-mataro/
SUMMARY:Mataró. Drets de Final de vida i DVA
DESCRIPTION:Xerrada a càrrec de Luis Campos i Virginia Luna\n\nAssociació
  Veïns Pla d'en Boet\nC. Sebastián Elcano\, 6\n\nMataró
CATEGORIES:Barcelona
END:VEVENT
BEGIN:VTIMEZONE
TZID:Europe/Madrid
X-LIC-LOCATION:Europe/Madrid
BEGIN:DAYLIGHT
DTSTART:20250330T030000
TZOFFSETFROM:+0100
TZOFFSETTO:+0200
TZNAME:CEST
END:DAYLIGHT
END:VTIMEZONE
END:VCALENDAR