BEGIN:VCALENDAR
VERSION:2.0
PRODID:-//wp-events-plugin.com//6.6.3//EN
BEGIN:VEVENT
UID:191@dmd.cat
DTSTART;TZID=Europe/Madrid:20250506T183000
DTEND;TZID=Europe/Madrid:20250506T193000
DTSTAMP:20250429T071219Z
URL:https://dmd.cat/events/drets-al-final-de-la-vida-i-dva-palol-de-revard
 it/
SUMMARY:Palol de Revardit. Drets al final de la vida i DVA
DESCRIPTION:Xerrada a càrrec de Cristina Vallès\n\nConsell Comarcal Pla d
 e l'Estany\nCastell de Palol\n\nPalol de Revardit
CATEGORIES:Girona
END:VEVENT
BEGIN:VTIMEZONE
TZID:Europe/Madrid
X-LIC-LOCATION:Europe/Madrid
BEGIN:DAYLIGHT
DTSTART:20250330T030000
TZOFFSETFROM:+0100
TZOFFSETTO:+0200
TZNAME:CEST
END:DAYLIGHT
END:VTIMEZONE
END:VCALENDAR