BEGIN:VCALENDAR
VERSION:2.0
PRODID:-//wp-events-plugin.com//6.6.3//EN
BEGIN:VEVENT
UID:187@dmd.cat
DTSTART;TZID=Europe/Madrid:20250522T111500
DTEND;TZID=Europe/Madrid:20250522T121500
DTSTAMP:20250429T071315Z
URL:https://dmd.cat/events/drets-al-final-de-la-vida-dva-cornella/
SUMMARY:Cornellà. Drets al final de la vida. DVA
DESCRIPTION:Xerrada a càrrec de Lola Toledano\n\nCasal Cívic i Comunitari
  Cornellà-Riera\nC. Francesc Layret\, 65\n\nCornellà
CATEGORIES:Barcelona
END:VEVENT
BEGIN:VTIMEZONE
TZID:Europe/Madrid
X-LIC-LOCATION:Europe/Madrid
BEGIN:DAYLIGHT
DTSTART:20250330T030000
TZOFFSETFROM:+0100
TZOFFSETTO:+0200
TZNAME:CEST
END:DAYLIGHT
END:VTIMEZONE
END:VCALENDAR