BEGIN:VCALENDAR
VERSION:2.0
PRODID:-//wp-events-plugin.com//6.6.3//EN
BEGIN:VEVENT
UID:190@dmd.cat
DTSTART;TZID=Europe/Madrid:20250509T193000
DTEND;TZID=Europe/Madrid:20250509T203000
DTSTAMP:20250429T071235Z
URL:https://dmd.cat/events/dmd-i-la-mort-digna-vic/
SUMMARY:Vic. DMD i la mort digna
DESCRIPTION:Xerrada a càrrec de Cristina Vallès\n\nFòrum Vic\nPlaça 1 d
 'octubre\n\nVic
CATEGORIES:Barcelona
END:VEVENT
BEGIN:VTIMEZONE
TZID:Europe/Madrid
X-LIC-LOCATION:Europe/Madrid
BEGIN:DAYLIGHT
DTSTART:20250330T030000
TZOFFSETFROM:+0100
TZOFFSETTO:+0200
TZNAME:CEST
END:DAYLIGHT
END:VTIMEZONE
END:VCALENDAR