BEGIN:VCALENDAR
VERSION:2.0
PRODID:-//wp-events-plugin.com//6.6.3//EN
BEGIN:VEVENT
UID:136@dmd.cat
DTSTART;TZID=Europe/Madrid:20250212T170000
DTEND;TZID=Europe/Madrid:20250212T180000
DTSTAMP:20250203T081049Z
URL:https://dmd.cat/events/creixell-drets-al-final-de-la-vida/
SUMMARY:Creixell. Drets al final de la vida
DESCRIPTION:Xerrada a càrrec de Ana Rodet Iraola\n\nCal Cabaler \nC/ Sant 
 Jaume 1 \n\nCreixell
CATEGORIES:Tarragona
END:VEVENT
BEGIN:VTIMEZONE
TZID:Europe/Madrid
X-LIC-LOCATION:Europe/Madrid
BEGIN:STANDARD
DTSTART:20241027T020000
TZOFFSETFROM:+0200
TZOFFSETTO:+0100
TZNAME:CET
END:STANDARD
END:VTIMEZONE
END:VCALENDAR