BEGIN:VCALENDAR
VERSION:2.0
PRODID:-//wp-events-plugin.com//6.6.3//EN
BEGIN:VEVENT
UID:172@dmd.cat
DTSTART;TZID=Europe/Madrid:20250506T170000
DTEND;TZID=Europe/Madrid:20250506T180000
DTSTAMP:20250429T071640Z
URL:https://dmd.cat/events/coneixer-els-drets-al-final-de-vida-tot-veient-
 testimonis-i-curts-de-ficcio-barcelona/
SUMMARY:Barcelona. Conèixer els drets al final de vida tot veient testimon
 is i curts de ficció.
DESCRIPTION:Xerrada a càrrec de Nani Hidalgo\n\nEspai Gent Gran Esquerra E
 ixample\nC. Rosselló\, 78\n\nBarcelona
CATEGORIES:Barcelona
END:VEVENT
BEGIN:VTIMEZONE
TZID:Europe/Madrid
X-LIC-LOCATION:Europe/Madrid
BEGIN:DAYLIGHT
DTSTART:20250330T030000
TZOFFSETFROM:+0100
TZOFFSETTO:+0200
TZNAME:CEST
END:DAYLIGHT
END:VTIMEZONE
END:VCALENDAR