BEGIN:VCALENDAR
VERSION:2.0
PRODID:-//wp-events-plugin.com//6.6.3//EN
BEGIN:VEVENT
UID:371@dmd.cat
DTSTART;TZID=Europe/Madrid:20260415T180000
DTEND;TZID=Europe/Madrid:20260415T200000
DTSTAMP:20260408T143130Z
URL:https://dmd.cat/events/castelldefels-presentacio-llibre-la-vida-es-una
 -preciosa-sincronocidad/
SUMMARY:Castelldefels. Presentacio llibre La vida es una preciosa sincronoc
 idad"
DESCRIPTION:Col·loqui amb l'autor Jordi Agustí Casado i el Dr. Antoni Per
 is\, Gerent i Director del CASAP\, Dra. Vanessa Diaz\, metgesa de família
  i DR. Víctor Silvestre\, atenció a les residències de la tercera edad 
 i del Dr. Manel Santinà\, portaveu de DMD-Cat\n\nCap Can Bou Castelldefel
 s\nAvda. Malagà\, 18\n\nCastelldefels
CATEGORIES:Barcelona
END:VEVENT
BEGIN:VTIMEZONE
TZID:Europe/Madrid
X-LIC-LOCATION:Europe/Madrid
BEGIN:DAYLIGHT
DTSTART:20260329T030000
TZOFFSETFROM:+0100
TZOFFSETTO:+0200
TZNAME:CEST
END:DAYLIGHT
END:VTIMEZONE
END:VCALENDAR