BEGIN:VCALENDAR
VERSION:2.0
PRODID:-//wp-events-plugin.com//6.6.3//EN
BEGIN:VEVENT
UID:197@dmd.cat
DTSTART;TZID=Europe/Madrid:20250527T173000
DTEND;TZID=Europe/Madrid:20250527T183000
DTSTAMP:20250519T070036Z
URL:https://dmd.cat/events/cambrils-quins-drets-tenim-en-el-final-de-vida-
 el-document-de-voluntats-anticipades-i-la-lore-la-llei-organica-de-regulac
 io-de-leutanasia/
SUMMARY:Cambrils. Quins drets tenim en el final de vida\, el Document de Vo
 luntats Anticipades i la LORE\, la llei orgànica de regulació de l'eutan
 àsia
DESCRIPTION:A càrrec dels Voluntaris de Reus i Cambrils\n\nClub de Jubilat
 s de la Casa del Mar de Cambrils\nPl. Aragó nº 6\n\nCambrils
CATEGORIES:Tarragona
END:VEVENT
BEGIN:VTIMEZONE
TZID:Europe/Madrid
X-LIC-LOCATION:Europe/Madrid
BEGIN:DAYLIGHT
DTSTART:20250330T030000
TZOFFSETFROM:+0100
TZOFFSETTO:+0200
TZNAME:CEST
END:DAYLIGHT
END:VTIMEZONE
END:VCALENDAR