BEGIN:VCALENDAR
VERSION:2.0
PRODID:-//wp-events-plugin.com//6.6.3//EN
BEGIN:VEVENT
UID:175@dmd.cat
DTSTART;TZID=Europe/Madrid:20250508T170000
DTEND;TZID=Europe/Madrid:20250508T180000
DTSTAMP:20250429T071546Z
URL:https://dmd.cat/events/cafe-conversa-entorn-de-la-mort-sabadell/
SUMMARY:Sabadell. Cafè-Conversa entorn de la Mort.
DESCRIPTION:Xerrada a càrrec de l'equip de DMD Sabadell\n\nC. de la Salut\
 ,14 (Cafeteria de la UES)\nPlaça de la Pau\, 2\n\nSabadell
CATEGORIES:Barcelona
END:VEVENT
BEGIN:VTIMEZONE
TZID:Europe/Madrid
X-LIC-LOCATION:Europe/Madrid
BEGIN:DAYLIGHT
DTSTART:20250330T030000
TZOFFSETFROM:+0100
TZOFFSETTO:+0200
TZNAME:CEST
END:DAYLIGHT
END:VTIMEZONE
END:VCALENDAR