BEGIN:VCALENDAR
VERSION:2.0
PRODID:-//wp-events-plugin.com//6.6.3//EN
BEGIN:VEVENT
UID:141@dmd.cat
DTSTART;TZID=Europe/Madrid:20250220T190000
DTEND;TZID=Europe/Madrid:20250220T200000
DTSTAMP:20250203T081946Z
URL:https://dmd.cat/events/bescano-drets-a-final-de-vida/
SUMMARY:Bescanó. Drets a final de vida
DESCRIPTION:Xerrada a càrrec de Núria Masnou i Cristina Vallès\n\nAjunta
 ment. Casal d'avis\nPl. Joan Maragall\, 3\n\nBescanó
CATEGORIES:Girona
END:VEVENT
BEGIN:VTIMEZONE
TZID:Europe/Madrid
X-LIC-LOCATION:Europe/Madrid
BEGIN:STANDARD
DTSTART:20241027T020000
TZOFFSETFROM:+0200
TZOFFSETTO:+0100
TZNAME:CET
END:STANDARD
END:VTIMEZONE
END:VCALENDAR