BEGIN:VCALENDAR
VERSION:2.0
PRODID:-//wp-events-plugin.com//6.6.3//EN
BEGIN:VEVENT
UID:206@dmd.cat
DTSTART;TZID=Europe/Madrid:20250618T110000
DTEND;TZID=Europe/Madrid:20250618T140000
DTSTAMP:20250527T081300Z
URL:https://dmd.cat/events/barcelona-recursos-comunicatius/
SUMMARY:Barcelona. Recursos comunicatius
DESCRIPTION:Xerrada a càrrec de Loreto Noguer i Cristina Vallès\n\nFormac
 ió COIB\nc/ Pujades\, 350\n\nBarcelona
CATEGORIES:Barcelona
END:VEVENT
BEGIN:VTIMEZONE
TZID:Europe/Madrid
X-LIC-LOCATION:Europe/Madrid
BEGIN:DAYLIGHT
DTSTART:20250330T030000
TZOFFSETFROM:+0100
TZOFFSETTO:+0200
TZNAME:CEST
END:DAYLIGHT
END:VTIMEZONE
END:VCALENDAR