BEGIN:VCALENDAR
VERSION:2.0
PRODID:-//wp-events-plugin.com//6.6.3//EN
BEGIN:VEVENT
UID:305@dmd.cat
DTSTART;TZID=Europe/Madrid:20251204T170000
DTEND;TZID=Europe/Madrid:20251204T183000
DTSTAMP:20251126T075631Z
URL:https://dmd.cat/events/barcelona-iv-jornades-sarria-sant-gervasi-els-d
 rets-al-final-de-la-vida/
SUMMARY:Barcelona. IV Jornades Sarrià Sant - Gervasi: Els drets al final d
 e la vida
DESCRIPTION:Xerrada a càrrec de Laura Romeu\n\nCasal Can Castelló\nCarrer
  del Castelló\, 1\n\nBarcelona
CATEGORIES:Barcelona
END:VEVENT
BEGIN:VTIMEZONE
TZID:Europe/Madrid
X-LIC-LOCATION:Europe/Madrid
BEGIN:STANDARD
DTSTART:20251026T020000
TZOFFSETFROM:+0200
TZOFFSETTO:+0100
TZNAME:CET
END:STANDARD
END:VTIMEZONE
END:VCALENDAR