BEGIN:VCALENDAR
VERSION:2.0
PRODID:-//wp-events-plugin.com//6.6.3//EN
BEGIN:VEVENT
UID:219@dmd.cat
DTSTART;TZID=Europe/Madrid:20250704T180000
DTEND;TZID=Europe/Madrid:20250704T200000
DTSTAMP:20250701T094320Z
URL:https://dmd.cat/events/barcelona-festival-internacional-de-cinema-de-l
 es-persones-grans-presentacio-film-el-ultimo-suspiro/
SUMMARY:Barcelona. Festival Internacional de cinema de les Persones Grans. 
 Presentació film "El último suspiro"
DESCRIPTION:Xerrada a càrrec de Cristina Vallès\n\nCinemes Girona\nC. Gir
 ona\, 175\n\nBarcelona
CATEGORIES:Barcelona
END:VEVENT
BEGIN:VTIMEZONE
TZID:Europe/Madrid
X-LIC-LOCATION:Europe/Madrid
BEGIN:DAYLIGHT
DTSTART:20250330T030000
TZOFFSETFROM:+0100
TZOFFSETTO:+0200
TZNAME:CEST
END:DAYLIGHT
END:VTIMEZONE
END:VCALENDAR