BEGIN:VCALENDAR
VERSION:2.0
PRODID:-//wp-events-plugin.com//6.6.3//EN
BEGIN:VEVENT
UID:222@dmd.cat
DTSTART;TZID=Europe/Madrid:20250707T180000
DTEND;TZID=Europe/Madrid:20250707T200000
DTSTAMP:20250630T142923Z
URL:https://dmd.cat/events/barcelona-festival-internacional-de-cinema-de-l
 es-persones-grans-presentacio-film-el-ultimo-suspiro-2/
SUMMARY:Saldes. Berenar-tertúlia amb joc de cartes
DESCRIPTION:Xerrada a càrrec de l'Equip DMD Berguedà\n\n&nbsp\;\n\nDMD Be
 rguedà- Aj. de Saldes\n\nCentre cívic 1 d'octubre\n\nSaldes
CATEGORIES:Barcelona
END:VEVENT
BEGIN:VTIMEZONE
TZID:Europe/Madrid
X-LIC-LOCATION:Europe/Madrid
BEGIN:DAYLIGHT
DTSTART:20250330T030000
TZOFFSETFROM:+0100
TZOFFSETTO:+0200
TZNAME:CEST
END:DAYLIGHT
END:VTIMEZONE
END:VCALENDAR