BEGIN:VCALENDAR
VERSION:2.0
PRODID:-//wp-events-plugin.com//6.6.3//EN
BEGIN:VEVENT
UID:261@dmd.cat
DTSTART;TZID=Europe/Madrid:20251112T180000
DTEND;TZID=Europe/Madrid:20251112T201500
DTSTAMP:20251026T072457Z
URL:https://dmd.cat/events/barcelona-festival-de-vida-al-final-de-la-vida-
 taller-per-fer-el-dva-2/
SUMMARY:Barcelona. Festival de Vida al final de la Vida: Taller per fer el 
 DVA
DESCRIPTION:Xerrada a càrrec de Cristina Vallès\n\nPalau Macaya\nPg. de S
 ant Joan\, 108\n\nBarcelona
CATEGORIES:Barcelona
END:VEVENT
BEGIN:VTIMEZONE
TZID:Europe/Madrid
X-LIC-LOCATION:Europe/Madrid
BEGIN:STANDARD
DTSTART:20251026T020000
TZOFFSETFROM:+0200
TZOFFSETTO:+0100
TZNAME:CET
END:STANDARD
END:VTIMEZONE
END:VCALENDAR