BEGIN:VCALENDAR
VERSION:2.0
PRODID:-//wp-events-plugin.com//6.6.3//EN
BEGIN:VEVENT
UID:200@dmd.cat
DTSTART;TZID=Europe/Madrid:20250605T190000
DTEND;TZID=Europe/Madrid:20250605T200000
DTSTAMP:20250527T080443Z
URL:https://dmd.cat/events/barcelona-eutanasia-reflexions-i-tramits/
SUMMARY:Barcelona. Eutanàsia: reflexions i tràmits
DESCRIPTION:Xerrada a càrrec de Maria Silvestre i Lola Toledano\n\nAssocia
 ció Llum i Verdad\nC. Consell de Cent\, 382 (Col·lectiu Ronda)\n\nBarcel
 ona
CATEGORIES:Barcelona
END:VEVENT
BEGIN:VTIMEZONE
TZID:Europe/Madrid
X-LIC-LOCATION:Europe/Madrid
BEGIN:DAYLIGHT
DTSTART:20250330T030000
TZOFFSETFROM:+0100
TZOFFSETTO:+0200
TZNAME:CEST
END:DAYLIGHT
END:VTIMEZONE
END:VCALENDAR