BEGIN:VCALENDAR
VERSION:2.0
PRODID:-//wp-events-plugin.com//6.6.3//EN
BEGIN:VEVENT
UID:215@dmd.cat
DTSTART;TZID=Europe/Madrid:20250611T163000
DTEND;TZID=Europe/Madrid:20250611T173000
DTSTAMP:20250602T082355Z
URL:https://dmd.cat/events/barcelona-els-drets-al-final-de-vida-amb-curts-
 i-testimonis/
SUMMARY:Barcelona. Els drets al final de vida amb curts i testimonis
DESCRIPTION:Xerrada a càrrec de Nani Hidalgo\n\nEspaiCaixa Congrès Espai 
 Gent Gran\nEspai G.G. Congrès Fundació La Caixa\n\nBarcelona
CATEGORIES:Barcelona
END:VEVENT
BEGIN:VTIMEZONE
TZID:Europe/Madrid
X-LIC-LOCATION:Europe/Madrid
BEGIN:DAYLIGHT
DTSTART:20250330T030000
TZOFFSETFROM:+0100
TZOFFSETTO:+0200
TZNAME:CEST
END:DAYLIGHT
END:VTIMEZONE
END:VCALENDAR