BEGIN:VCALENDAR
VERSION:2.0
PRODID:-//wp-events-plugin.com//6.6.3//EN
BEGIN:VEVENT
UID:315@dmd.cat
DTSTART;TZID=Europe/Madrid:20251204T123000
DTEND;TZID=Europe/Madrid:20251204T133000
DTSTAMP:20251203T084418Z
URL:https://dmd.cat/events/barcelona-dva/
SUMMARY:Barcelona . DVA
DESCRIPTION:Xerrada a càrrec de Elena Gámez\, Nani Hidalgo\n\nDret UB\nAv
 d. Diagonal\,684\n\nBarcelona
CATEGORIES:Barcelona
END:VEVENT
BEGIN:VTIMEZONE
TZID:Europe/Madrid
X-LIC-LOCATION:Europe/Madrid
BEGIN:STANDARD
DTSTART:20251026T020000
TZOFFSETFROM:+0200
TZOFFSETTO:+0100
TZNAME:CET
END:STANDARD
END:VTIMEZONE
END:VCALENDAR