BEGIN:VCALENDAR
VERSION:2.0
PRODID:-//wp-events-plugin.com//6.6.3//EN
BEGIN:VEVENT
UID:161@dmd.cat
DTSTART;TZID=Europe/Madrid:20250428T193000
DTEND;TZID=Europe/Madrid:20250428T203000
DTSTAMP:20250319T085305Z
URL:https://dmd.cat/events/barcelona-drets-de-final-de-vida-i-dva/
SUMMARY:Barcelona. Drets de Final de vida i DVA
DESCRIPTION:Xerrada a càrrec de Maria Silvestre i Lola Toledano\n\nSocieta
 t Estudis La Verneda de Sant Martí\nC. Cívic S. Martí (La Selva de Mar\
 , 215)\n\nBarcelona
CATEGORIES:Barcelona
END:VEVENT
BEGIN:VTIMEZONE
TZID:Europe/Madrid
X-LIC-LOCATION:Europe/Madrid
BEGIN:DAYLIGHT
DTSTART:20250330T030000
TZOFFSETFROM:+0100
TZOFFSETTO:+0200
TZNAME:CEST
END:DAYLIGHT
END:VTIMEZONE
END:VCALENDAR