BEGIN:VCALENDAR
VERSION:2.0
PRODID:-//wp-events-plugin.com//6.6.3//EN
BEGIN:VEVENT
UID:199@dmd.cat
DTSTART;TZID=Europe/Madrid:20250603T163000
DTEND;TZID=Europe/Madrid:20250603T173000
DTSTAMP:20250527T080322Z
URL:https://dmd.cat/events/barcelona-drets-al-final-de-la-vida-i-dva-5/
SUMMARY:Barcelona. Drets al final de la vida i DVA
DESCRIPTION:Xerrada a càrrec de Maria Silvestre i Lola Toledano\n\nFundaci
 ó Avismón - Catalunya\nC. Olzinelles\, 31 (Lleialtat Santsenca\n\nBarcel
 ona
CATEGORIES:Barcelona
END:VEVENT
BEGIN:VTIMEZONE
TZID:Europe/Madrid
X-LIC-LOCATION:Europe/Madrid
BEGIN:DAYLIGHT
DTSTART:20250330T030000
TZOFFSETFROM:+0100
TZOFFSETTO:+0200
TZNAME:CEST
END:DAYLIGHT
END:VTIMEZONE
END:VCALENDAR