BEGIN:VCALENDAR
VERSION:2.0
PRODID:-//wp-events-plugin.com//6.6.3//EN
BEGIN:VEVENT
UID:198@dmd.cat
DTSTART;TZID=Europe/Madrid:20250602T193000
DTEND;TZID=Europe/Madrid:20250602T203000
DTSTAMP:20250527T080131Z
URL:https://dmd.cat/events/barcelona-drets-al-final-de-la-vida-i-dva-4/
SUMMARY:Barcelona. Drets al final de la vida i DVA
DESCRIPTION:Xerrada a càrrec de Maria Silvestre i Lola Toledano\n\nCentre 
 Cívic Sant Martí\nCarrer Selva de Mar\, 215\n\nBarcelona
CATEGORIES:Barcelona
END:VEVENT
BEGIN:VTIMEZONE
TZID:Europe/Madrid
X-LIC-LOCATION:Europe/Madrid
BEGIN:DAYLIGHT
DTSTART:20250330T030000
TZOFFSETFROM:+0100
TZOFFSETTO:+0200
TZNAME:CEST
END:DAYLIGHT
END:VTIMEZONE
END:VCALENDAR