BEGIN:VCALENDAR
VERSION:2.0
PRODID:-//wp-events-plugin.com//6.6.3//EN
BEGIN:VEVENT
UID:122@dmd.cat
DTSTART;TZID=Europe/Madrid:20250130T193000
DTEND;TZID=Europe/Madrid:20250130T203000
DTSTAMP:20241223T090643Z
URL:https://dmd.cat/events/barcelona-drets-al-final-de-la-vida-i-dva-2/
SUMMARY:Barcelona. Drets al final de la vida i DVA
DESCRIPTION:Xerrada a càrrec de Maria Silvestre i Lola Toledano\nAssociaci
 ó Humanisme i Acció\n\n\n\n\n\nC. Consell Cent\,382 (Centre Cultural Ron
 da)\n\nBarcelona\n\n\n\n\n
CATEGORIES:Barcelona
END:VEVENT
BEGIN:VTIMEZONE
TZID:Europe/Madrid
X-LIC-LOCATION:Europe/Madrid
BEGIN:STANDARD
DTSTART:20241027T020000
TZOFFSETFROM:+0200
TZOFFSETTO:+0100
TZNAME:CET
END:STANDARD
END:VTIMEZONE
END:VCALENDAR