BEGIN:VCALENDAR
VERSION:2.0
PRODID:-//wp-events-plugin.com//6.6.3//EN
BEGIN:VEVENT
UID:124@dmd.cat
DTSTART;TZID=Europe/Madrid:20250117T093000
DTEND;TZID=Europe/Madrid:20250117T103000
DTSTAMP:20241223T091238Z
URL:https://dmd.cat/events/barcelona-document-de-voluntats-anticipades-dre
 ts-que-tenim-que-es-i-perque-serveix-com-realitzar-el-document/
SUMMARY:Barcelona. DOCUMENT DE VOLUNTATS ANTICIPADES: DRETS que tenim. Què
  és i perquè serveix ? Com realitzar el Document?
DESCRIPTION:Xerrada a càrrec de Teresa Muñoz\, infermera i voluntària de
  DmdCat\nEscola de Salut (EAP Sant Antoni)\n\n\n\n\n\nAula Polivalent del 
 mercat de St. Antoni\n\nBarcelona\n\n\n\n\n
CATEGORIES:Barcelona
END:VEVENT
BEGIN:VTIMEZONE
TZID:Europe/Madrid
X-LIC-LOCATION:Europe/Madrid
BEGIN:STANDARD
DTSTART:20241027T020000
TZOFFSETFROM:+0200
TZOFFSETTO:+0100
TZNAME:CET
END:STANDARD
END:VTIMEZONE
END:VCALENDAR