BEGIN:VCALENDAR
VERSION:2.0
PRODID:-//wp-events-plugin.com//6.6.3//EN
BEGIN:VEVENT
UID:335@dmd.cat
DTSTART;TZID=Europe/Madrid:20260317T190000
DTEND;TZID=Europe/Madrid:20260317T203000
DTSTAMP:20260225T140830Z
URL:https://dmd.cat/events/barcelona-com-morirem-el-2050/
SUMMARY:Barcelona. Com morirem el 2050
DESCRIPTION:Xerrada a càrrec de Cristina Vallès\n\nArgumenta CC Casa Glof
 erichs\nGran Via de les Corts Catalanes\, 491\n\nBarcelona
CATEGORIES:Barcelona
END:VEVENT
BEGIN:VTIMEZONE
TZID:Europe/Madrid
X-LIC-LOCATION:Europe/Madrid
BEGIN:STANDARD
DTSTART:20251026T020000
TZOFFSETFROM:+0200
TZOFFSETTO:+0100
TZNAME:CET
END:STANDARD
END:VTIMEZONE
END:VCALENDAR