BEGIN:VCALENDAR
VERSION:2.0
PRODID:-//wp-events-plugin.com//6.6.3//EN
BEGIN:VEVENT
UID:263@dmd.cat
DTSTART;TZID=Europe/Madrid:20251127T183000
DTEND;TZID=Europe/Madrid:20251127T193000
DTSTAMP:20251026T073031Z
URL:https://dmd.cat/events/barcelona-argumenta-conversa-oberta-2/
SUMMARY:Barcelona. Argumenta: Conversa oberta
DESCRIPTION:Xerrada a càrrec de Cristina Vallès\n\nCC Torre Llobeta\nCarr
 er de Sta. Fe\, 2 Nou Barris\n\nBarcelona
CATEGORIES:Barcelona
END:VEVENT
BEGIN:VTIMEZONE
TZID:Europe/Madrid
X-LIC-LOCATION:Europe/Madrid
BEGIN:STANDARD
DTSTART:20251026T020000
TZOFFSETFROM:+0200
TZOFFSETTO:+0100
TZNAME:CET
END:STANDARD
END:VTIMEZONE
END:VCALENDAR