BEGIN:VCALENDAR
VERSION:2.0
PRODID:-//wp-events-plugin.com//6.6.3//EN
BEGIN:VEVENT
UID:127@dmd.cat
DTSTART;TZID=Europe/Madrid:20250120T103000
DTEND;TZID=Europe/Madrid:20250120T113000
DTSTAMP:20250109T164545Z
URL:https://dmd.cat/events/banyoles-drets-al-final-de-la-vida-i-dva/
SUMMARY:Banyoles. Drets al final de la vida i DVA
DESCRIPTION:Xerrada a càrrec de JM Rodriguez i Cristina Vallès\n\nCasal C
 ívic i Comunitari\n\nCarrer de Josep Maria Bohigas i Masoliver 19
CATEGORIES:Girona
END:VEVENT
BEGIN:VTIMEZONE
TZID:Europe/Madrid
X-LIC-LOCATION:Europe/Madrid
BEGIN:STANDARD
DTSTART:20241027T020000
TZOFFSETFROM:+0200
TZOFFSETTO:+0100
TZNAME:CET
END:STANDARD
END:VTIMEZONE
END:VCALENDAR