BEGIN:VCALENDAR
VERSION:2.0
PRODID:-//wp-events-plugin.com//6.6.3//EN
BEGIN:VEVENT
UID:289@dmd.cat
DTSTART;TZID=Europe/Madrid:20251114T101500
DTEND;TZID=Europe/Madrid:20251114T111500
DTSTAMP:20251027T093034Z
URL:https://dmd.cat/events/badia-del-valles-com-fer-el-document-de-volunta
 ts-anticipades/
SUMMARY:Badia del Vallès. Com fer el document de voluntats anticipades
DESCRIPTION:Xerrada a càrrec de Montse Colominas\n\nCasal Cívic Badia del
  Vallès\nPl. de les Entitats\, s/n\n\nBadia del Vallès
CATEGORIES:Barcelona
END:VEVENT
BEGIN:VTIMEZONE
TZID:Europe/Madrid
X-LIC-LOCATION:Europe/Madrid
BEGIN:STANDARD
DTSTART:20251026T020000
TZOFFSETFROM:+0200
TZOFFSETTO:+0100
TZNAME:CET
END:STANDARD
END:VTIMEZONE
END:VCALENDAR