BEGIN:VCALENDAR
VERSION:2.0
PRODID:-//wp-events-plugin.com//6.6.3//EN
BEGIN:VEVENT
UID:339@dmd.cat
DTSTART;TZID=Europe/Madrid:20260312T180000
DTEND;TZID=Europe/Madrid:20260312T200000
DTSTAMP:20260225T141707Z
URL:https://dmd.cat/events/artes-drets-de-final-de-vida-i-dva/
SUMMARY:Artés. Drets de final de vida i DVA
DESCRIPTION:Xerrada a càrrec de Rosa Cobacho i Anna Vidal\n\nComplex cultu
 ral Cal Sitges \nC. Les Parres\, 44\n\nArtés
CATEGORIES:Barcelona
END:VEVENT
BEGIN:VTIMEZONE
TZID:Europe/Madrid
X-LIC-LOCATION:Europe/Madrid
BEGIN:STANDARD
DTSTART:20251026T020000
TZOFFSETFROM:+0200
TZOFFSETTO:+0100
TZNAME:CET
END:STANDARD
END:VTIMEZONE
END:VCALENDAR