BEGIN:VCALENDAR
VERSION:2.0
PRODID:-//wp-events-plugin.com//6.6.3//EN
BEGIN:VEVENT
UID:347@dmd.cat
DTSTART;TZID=Europe/Madrid:20260319T170000
DTEND;TZID=Europe/Madrid:20260319T190000
DTSTAMP:20260226T064733Z
URL:https://dmd.cat/events/alcarras-docuforum-la-bona-mort-2/
SUMMARY:Alcarràs. Docuforum "La Bona Mort"
DESCRIPTION:Xerrada a càrrec de Dolors Morera i Teresa Ibaras\n  	\nLlar A
 ctiva d'Alcarràs\nCarrer Joan XXIII 47-45\n\nAlcarràs
CATEGORIES:Lleida
END:VEVENT
BEGIN:VTIMEZONE
TZID:Europe/Madrid
X-LIC-LOCATION:Europe/Madrid
BEGIN:STANDARD
DTSTART:20251026T020000
TZOFFSETFROM:+0200
TZOFFSETTO:+0100
TZNAME:CET
END:STANDARD
END:VTIMEZONE
END:VCALENDAR