BEGIN:VCALENDAR
VERSION:2.0
PRODID:-//wp-events-plugin.com//6.6.3//EN
BEGIN:VEVENT
UID:210@dmd.cat
DTSTART;TZID=Europe/Madrid:20250604T193000
DTEND;TZID=Europe/Madrid:20250604T203000
DTSTAMP:20250527T081820Z
URL:https://dmd.cat/events/aiguaviva-voluntats-anticipades/
SUMMARY:Aiguaviva. Voluntats Anticipades
DESCRIPTION:Xerrada a càrrec de N.Bagari i A. Buixaderes\n\nConsorci Benes
 tar Social Girona/\nPl. 1 d'Octubre\, 6 (Ca la Neus)\n\nAiguaviva
CATEGORIES:Girona
END:VEVENT
BEGIN:VTIMEZONE
TZID:Europe/Madrid
X-LIC-LOCATION:Europe/Madrid
BEGIN:DAYLIGHT
DTSTART:20250330T030000
TZOFFSETFROM:+0100
TZOFFSETTO:+0200
TZNAME:CEST
END:DAYLIGHT
END:VTIMEZONE
END:VCALENDAR